BEGIN:VCALENDAR
VERSION:2.0
PRODID:-//AVID Australia - ECPv6.15.20//NONSGML v1.0//EN
CALSCALE:GREGORIAN
METHOD:PUBLISH
X-WR-CALNAME:AVID Australia
X-ORIGINAL-URL:https://avidau.org
X-WR-CALDESC:Events for AVID Australia
REFRESH-INTERVAL;VALUE=DURATION:PT1H
X-Robots-Tag:noindex
X-PUBLISHED-TTL:PT1H
BEGIN:VTIMEZONE
TZID:Australia/Melbourne
BEGIN:STANDARD
TZOFFSETFROM:+1100
TZOFFSETTO:+1000
TZNAME:AEST
DTSTART:20240406T160000
END:STANDARD
BEGIN:DAYLIGHT
TZOFFSETFROM:+1000
TZOFFSETTO:+1100
TZNAME:AEDT
DTSTART:20241005T160000
END:DAYLIGHT
BEGIN:STANDARD
TZOFFSETFROM:+1100
TZOFFSETTO:+1000
TZNAME:AEST
DTSTART:20250405T160000
END:STANDARD
BEGIN:DAYLIGHT
TZOFFSETFROM:+1000
TZOFFSETTO:+1100
TZNAME:AEDT
DTSTART:20251004T160000
END:DAYLIGHT
BEGIN:STANDARD
TZOFFSETFROM:+1100
TZOFFSETTO:+1000
TZNAME:AEST
DTSTART:20260404T160000
END:STANDARD
BEGIN:DAYLIGHT
TZOFFSETFROM:+1000
TZOFFSETTO:+1100
TZNAME:AEDT
DTSTART:20261003T160000
END:DAYLIGHT
END:VTIMEZONE
BEGIN:VTIMEZONE
TZID:UTC
BEGIN:STANDARD
TZOFFSETFROM:+0000
TZOFFSETTO:+0000
TZNAME:UTC
DTSTART:20160101T000000
END:STANDARD
END:VTIMEZONE
BEGIN:VEVENT
DTSTART;VALUE=DATE:20251203
DTEND;VALUE=DATE:20251206
DTSTAMP:20260420T212704
CREATED:20250821T010412Z
LAST-MODIFIED:20250821T010412Z
UID:10433-1764720000-1764979199@avidau.org
SUMMARY:Summer Institute 2025
DESCRIPTION:
URL:https://avidau.org/event/summer-institute-2025/
LOCATION:Victoria University City Tower\, 370 Little Lonsdale Street\, Melbourne\, VIC\, 3000\, Australia
ORGANIZER;CN="AVID Australia":MAILTO:avidaustralia@avidau.org
END:VEVENT
BEGIN:VEVENT
DTSTART;VALUE=DATE:20250918
DTEND;VALUE=DATE:20250920
DTSTAMP:20260420T212704
CREATED:20250821T004400Z
LAST-MODIFIED:20250821T004400Z
UID:10429-1758153600-1758326399@avidau.org
SUMMARY:Queensland Path
DESCRIPTION:
URL:https://avidau.org/event/queensland-path/
LOCATION:Loganlea State High School\, 16-22 Neridah St\, Loganlea\, Queensland\, 4131
ORGANIZER;CN="AVID Australia":MAILTO:avidaustralia@avidau.org
END:VEVENT
BEGIN:VEVENT
DTSTART;TZID=UTC:20171129T080000
DTEND;TZID=UTC:20171201T170000
DTSTAMP:20260420T212704
CREATED:20170703T154712Z
LAST-MODIFIED:20171016T142507Z
UID:497-1511942400-1512147600@avidau.org
SUMMARY:2017 Summer Institute - Melbourne
DESCRIPTION:The 2017 Summer Institute will be held in Melbourne from 29 November to 1 December 2017.  Visit the 2017 Summer Institute page for further details. \n 
URL:https://avidau.org/event/2017-summer-institute-melbourne/
LOCATION:Queensland
ORGANIZER;CN="AVID Australia":MAILTO:avidaustralia@avidau.org
END:VEVENT
BEGIN:VEVENT
DTSTART;TZID=UTC:20170330T173000
DTEND;TZID=UTC:20170330T193000
DTSTAMP:20260420T212704
CREATED:20170313T152058Z
LAST-MODIFIED:20210303T055119Z
UID:387-1490895000-1490902200@avidau.org
SUMMARY:The F Bomb in Education: Do All Students Have the Right to Fail? With Mary Catherine Swanson
DESCRIPTION:AVID Australia and Victoria University invites you to a unique opportunity to share in the wisdom of a truly inspirational educator and innovator\, Mary Catherine Swanson.\n\nNamed the 2001 Time and CNN Best Teacher in America\, for creating AVID – the longest running whole school reform program in the USA\, and now in Australia – Mary Catherine has influenced the lives of millions of students. \nFrom her first class of 32 students in 1980 to the over 1.6 million students being taught AVID strategies every year\, in the modern day\, the AVID program has focussed on equipping students with the cognitive and academic skills they need to thrive. Her approach\, informed by research-based evidence\, the insights of former students and the program’s lasting belief in improving teacher quality\, has seen AVID go from strength to strength. \nIn Australia\, the recent Grattan report found that as many as 40 percent of students in Australian schools are unproductive and disengaged\, taught by teachers who feel ill prepared and supported for the challenges they face in the classroom. With 37 years of experience and success\, the AVID program provides a time-tested template to address these issues. \nMary Catherine’s keynote will be followed by a panel discussion\, which will feature Michael Traill AM\, founder of Social Ventures Australia (SVA)\, an AVID school principal\, and a leading academic on school education. Peter Goss from the Grattan Institute will act as the discussant on the night. This is a once in a lifetime opportunity to hear from Mary Catherine Swanson in what is likely to be her only trip ever to Australia. \nEvent details\nDate: Thursday 30 March 2017\nTime: 5.30pm (for a 5.45pm start) – 7.30pm\nVenue: Victoria University Convention Centre\, City Flinders Campus\nLevel 12\, 300 Flinders Street\, Melbourne\, 3000\nRSVP: Tuesday 28 March 2017 \nRegister now!\nWe look forward to seeing you there.
URL:https://avidau.org/event/the-f-bomb-in-education-do-all-students-have-the-right-to-fail-with-mary-catherine-swanson/
LOCATION:Victoria University Convention Centre\, City Flinders Campus\,  Level 12\, 300 Flinders Street\, Melbourne\, Vic\, 3000\, Australia
ORGANIZER;CN="AVID Australia":MAILTO:avidaustralia@avidau.org
END:VEVENT
END:VCALENDAR